BEGIN:VCALENDAR
VERSION:2.0
PRODID:-//Living Streets Canberra - ECPv6.15.20//NONSGML v1.0//EN
CALSCALE:GREGORIAN
METHOD:PUBLISH
X-WR-CALNAME:Living Streets Canberra
X-ORIGINAL-URL:https://livingstreets.org.au
X-WR-CALDESC:Events for Living Streets Canberra
REFRESH-INTERVAL;VALUE=DURATION:PT1H
X-Robots-Tag:noindex
X-PUBLISHED-TTL:PT1H
BEGIN:VTIMEZONE
TZID:Australia/Sydney
BEGIN:STANDARD
TZOFFSETFROM:+1100
TZOFFSETTO:+1000
TZNAME:AEST
DTSTART:20240406T160000
END:STANDARD
BEGIN:DAYLIGHT
TZOFFSETFROM:+1000
TZOFFSETTO:+1100
TZNAME:AEDT
DTSTART:20241005T160000
END:DAYLIGHT
BEGIN:STANDARD
TZOFFSETFROM:+1100
TZOFFSETTO:+1000
TZNAME:AEST
DTSTART:20250405T160000
END:STANDARD
BEGIN:DAYLIGHT
TZOFFSETFROM:+1000
TZOFFSETTO:+1100
TZNAME:AEDT
DTSTART:20251004T160000
END:DAYLIGHT
BEGIN:STANDARD
TZOFFSETFROM:+1100
TZOFFSETTO:+1000
TZNAME:AEST
DTSTART:20260404T160000
END:STANDARD
BEGIN:DAYLIGHT
TZOFFSETFROM:+1000
TZOFFSETTO:+1100
TZNAME:AEDT
DTSTART:20261003T160000
END:DAYLIGHT
BEGIN:STANDARD
TZOFFSETFROM:+1100
TZOFFSETTO:+1000
TZNAME:AEST
DTSTART:20270403T160000
END:STANDARD
BEGIN:DAYLIGHT
TZOFFSETFROM:+1000
TZOFFSETTO:+1100
TZNAME:AEDT
DTSTART:20271002T160000
END:DAYLIGHT
END:VTIMEZONE
BEGIN:VEVENT
DTSTART;TZID=Australia/Sydney:20260414T180000
DTEND;TZID=Australia/Sydney:20260414T190000
DTSTAMP:20260424T025746
CREATED:20260411T232317Z
LAST-MODIFIED:20260411T232317Z
UID:23992-1776189600-1776193200@livingstreets.org.au
SUMMARY:14 April 2026 Meeting
DESCRIPTION:Help Living Streets Canberra move from ideas to action for better streets \nNext meeting is Tuesday\, 10 February at 6–7pm\, online: Register at https://bit.ly/4cbCImv
URL:https://livingstreets.org.au/event/14-april-2026-meeting/
CATEGORIES:Meetings
END:VEVENT
BEGIN:VEVENT
DTSTART;TZID=Australia/Sydney:20260331T180000
DTEND;TZID=Australia/Sydney:20260331T190000
DTSTAMP:20260424T025746
CREATED:20260128T102831Z
LAST-MODIFIED:20260328T103555Z
UID:23736-1774980000-1774983600@livingstreets.org.au
SUMMARY:31 March 2026 Meeting
DESCRIPTION:Living Streets has long advocated for policy change to make our streets safer\, more walkable\, and more connected. We have made detailed submissions to the government\, offering practical suggestions grounded in evidence and community experience. This work remains essential. But influence does not only flow through submissions and reports. \nThe book The Policy Playbook (https://www.thepolicyplaybook.org/ ) points to a complementary approach: if you want governments to act\, don’t just propose ideas\, demonstrate them. Small\, well-designed experiments can show what works in practice. They reduce uncertainty\, build confidence\, and create a pathway for policy change grounded in real-world outcomes. \nThis meeting is about exactly that. We will come together to identify practical experiments that individuals can run on their own or with one or two others\, demonstrate to others and trial them. For example\, an individual can run an experiment where they travel at the speed limits for a given journey and then the same journey keeping the maximum speed at 10 kph less than the speed limit. \nThis meeting will be held at the Conservation Council Office at 6pm on Tuesday.  You might like to run a small experiment where you travel all or some part of the way by walking and public transport. You can record the times and costs\, and compare them for coming to the meeting by car versus walking. \nCome to the meeting and bring your ideas\, and we will discuss. \nWe would love you to join us! \n\nWhat: Living Streets Canberra meetingWhen: Tuesday\, 31 March 2026 at 6pm-7pmWhere: Conservation Council \nThis is not about having all the answers. It’s about sharing ideas\, listening to one another\, and shaping our future together. Your voice\, experience\, and perspective all matter. \nWe’re a small group working for big impacts. Let’s shape our future together. \nLooking forward to seeing you there!
URL:https://livingstreets.org.au/event/31-march-2026-meeting/
LOCATION:Conservation Council ACT Region\, Unit 14/26 Barry Drive\, Canberra\, ACT\, Australia
CATEGORIES:Meetings
END:VEVENT
BEGIN:VEVENT
DTSTART;TZID=Australia/Sydney:20260317T180000
DTEND;TZID=Australia/Sydney:20260317T190000
DTSTAMP:20260424T025746
CREATED:20260128T101652Z
LAST-MODIFIED:20260315T050112Z
UID:23731-1773770400-1773774000@livingstreets.org.au
SUMMARY:17 March 2026 Meeting
DESCRIPTION:We will be concentrating on making submissions about the importance of facilitating greater use of active\, shared and public transport for deep and fast cuts to climate pollution in the ACT. \nIf you can\, bring your laptop or pen and paper. \nWe would love you to join us! \n\nWhat: Living Streets Canberra meetingWhen: Tuesday\, 17 March 2026 at 6pm-7pmWhere: Conservation Council \nThis is not about having all the answers. It’s about sharing ideas\, listening to one another\, and shaping our future together. Your voice\, experience\, and perspective all matter. \nWe’re a small group working for big impacts. Let’s shape our future together. \nLooking forward to seeing you there!
URL:https://livingstreets.org.au/event/17-march-2026-meeting/
LOCATION:Conservation Council ACT Region\, Unit 14/26 Barry Drive\, Canberra\, ACT\, Australia
CATEGORIES:Meetings
END:VEVENT
BEGIN:VEVENT
DTSTART;TZID=Australia/Sydney:20260303T180000
DTEND;TZID=Australia/Sydney:20260303T190000
DTSTAMP:20260424T025746
CREATED:20260128T101344Z
LAST-MODIFIED:20260222T055510Z
UID:23727-1772560800-1772564400@livingstreets.org.au
SUMMARY:3 March 2026 Meeting - Strengthening How We Organise and Support Each Other
DESCRIPTION:Strengthening How We Organise and Support Each Other \nJoin us as we continue to grow Living Streets Canberra \nWe would love you to join us! \n\nWhat: Living Streets Canberra meetingWhen: Tuesday\, 3 March 2026 at 6pm-7pmWhere: Conservation Council (26 Barry Drive\, Canberra) \nThis is not about having all the answers. It’s about sharing ideas\, listening to one another\, and shaping our future together. Your voice\, experience\, and perspective all matter. \nWe’re a small group working for big impacts. Let’s shape our future together. \nLooking forward to seeing you there!
URL:https://livingstreets.org.au/event/3-march-2026-meeting/
LOCATION:Conservation Council ACT Region\, Unit 14/26 Barry Drive\, Canberra\, ACT\, Australia
CATEGORIES:Meetings
END:VEVENT
BEGIN:VEVENT
DTSTART;TZID=Australia/Sydney:20260217T180000
DTEND;TZID=Australia/Sydney:20260217T190000
DTSTAMP:20260424T025746
CREATED:20260128T100833Z
LAST-MODIFIED:20260213T232925Z
UID:23723-1771351200-1771354800@livingstreets.org.au
SUMMARY:17 February 2026 Meeting
DESCRIPTION:Help us move from ideas to action for better streets: \n\nDecide what matters most\nPlan our path and next steps\nEveryone welcome — your voice matters!\n\nWe would love you to join us as we continue shaping our future together!\nWe would love you to join us! \n\nWhat: Living Streets Canberra meetingWhen: Tuesday\, 17 February 2026 at 6pm-7pmWhere: Conservation Council \nThis is not about having all the answers. It’s about sharing ideas\, listening to one another\, and shaping our future together. Your voice\, experience\, and perspective all matter. \nWe’re a small group working for big impacts. Let’s shape our future together. \nLooking forward to seeing you there!
URL:https://livingstreets.org.au/event/17-february-2026-meeting/
LOCATION:Conservation Council ACT Region\, Unit 14/26 Barry Drive\, Canberra\, ACT\, Australia
CATEGORIES:Meetings
END:VEVENT
BEGIN:VEVENT
DTSTART;TZID=Australia/Sydney:20260210T180000
DTEND;TZID=Australia/Sydney:20260210T190000
DTSTAMP:20260424T025746
CREATED:20260128T100633Z
LAST-MODIFIED:20260205T103511Z
UID:23719-1770746400-1770750000@livingstreets.org.au
SUMMARY:10 February 2026 Meeting
DESCRIPTION:Help us move from ideas to action for better streets: \n\nDecide what matters most\nPlan our path and next steps\nEveryone welcome — your voice matters!\n\nWe would love you to join us as we continue shaping our future together!\n\nWhat: Living Streets Canberra meetingWhen: Tuesday\, 10 February 2026 at 6pm-7pmWhere: Online! RSVP here \nThis is not about having all the answers. It’s about sharing ideas\, listening to one another\, and shaping our future together. Your voice\, experience\, and perspective all matter. \nWe’re a small group working for big impacts. Let’s shape our future together. \nLooking forward to seeing you there!
URL:https://livingstreets.org.au/event/10-february-2026-meeting/
CATEGORIES:Meetings
END:VEVENT
BEGIN:VEVENT
DTSTART;TZID=Australia/Sydney:20260203T180000
DTEND;TZID=Australia/Sydney:20260203T190000
DTSTAMP:20260424T025746
CREATED:20260128T100428Z
LAST-MODIFIED:20260131T062814Z
UID:23717-1770141600-1770145200@livingstreets.org.au
SUMMARY:3 February 2026 Meeting
DESCRIPTION:Our friendly gathering last Tuesday to shape our future was so productive that we didn’t finish!\n(Thanks to everyone who joined us.)\n\n\nJoin us as we continue shaping our future together!\n\nWe would love you to join us! \n\nWhat: Living Streets Canberra meetingWhen: Tuesday\, 3 February 2026 at 6pm-7pmWhere: Online! RSVP here \nThis is not about having all the answers. It’s about sharing ideas\, listening to one another\, and shaping our future together. Your voice\, experience\, and perspective all matter. \nWe’re a small group working for big impacts. Let’s shape our future together. \nLooking forward to seeing you there!
URL:https://livingstreets.org.au/event/3-february-2026-meeting/
CATEGORIES:Meetings
END:VEVENT
BEGIN:VEVENT
DTSTART;TZID=Australia/Sydney:20260127T180000
DTEND;TZID=Australia/Sydney:20260127T200000
DTSTAMP:20260424T025746
CREATED:20260119T011506Z
LAST-MODIFIED:20260119T011646Z
UID:23674-1769536800-1769544000@livingstreets.org.au
SUMMARY:27 January 2026 Meeting - Planning our next steps
DESCRIPTION:We’re planning our next steps – and we would love your help to shape them. \nIf you care about improving Canberra\, and if you care about community\, this is an invitation to come together and help guide what we do next for safe\, comfortable\, and inclusive streets for everyone. Our group may be small\, but its impact can be real and practical\, especially when we take time to clarify our direction and strengthen how we work. \nWe’re holding a planning meeting where we will: \n\nIdentify our key priorities for advocacy on safer\, more inclusive streets\n\nThink strategically about growing our group and influence\n\nBegin building stronger foundations for how we organise and support each other\n\n\nWe would love you to join us! \n\nWhat: Living Streets Canberra meetingWhen: Tuesday\, 27 January 2026 at 6pm-8pmWhere: Civic Library (Upstairs) \nThis is not about having all the answers. It’s about sharing ideas\, listening to one another\, and shaping our future together. Your voice\, experience\, and perspective all matter. \nWe’re a small group working for big impacts. Let’s shape our future together. \nLooking forward to seeing you there!
URL:https://livingstreets.org.au/event/27-january-2026-meeting-planning-our-next-steps/
LOCATION:Civic Library\, Civic Square\, London Cct\, Canberra\, ACT\, 2601\, Australia
CATEGORIES:Meetings
ORGANIZER;CN="Gill King":MAILTO:convenor@livingstreets.org.au
END:VEVENT
BEGIN:VEVENT
DTSTART;TZID=Australia/Sydney:20251118T180000
DTEND;TZID=Australia/Sydney:20251118T190000
DTSTAMP:20260424T025746
CREATED:20251115T054522Z
LAST-MODIFIED:20251115T054522Z
UID:23293-1763488800-1763492400@livingstreets.org.au
SUMMARY:18 November 2025 Meeting
DESCRIPTION:Living Streets Canberra’s next meeting on Tuesday\, 18 November at 6-7pm\, online.\nThis meeting’s areas of focus:🎯 Review of our participation at Southfest🎯 Submissions: shops upgrades + Thoroughbred Park🎯 Our next ‘walkshops’\n \nWe would love you to join us!\nWhat: Living Streets Canberra meetingWhen: Tuesday\, 18 November 2025 at 6pm-7pmWhere: Online \nRegistration: CLICK HERE
URL:https://livingstreets.org.au/event/18-november-2025-meeting/
CATEGORIES:Meetings
END:VEVENT
BEGIN:VEVENT
DTSTART;TZID=Australia/Sydney:20251104T180000
DTEND;TZID=Australia/Sydney:20251104T190000
DTSTAMP:20260424T025746
CREATED:20251102T103753Z
LAST-MODIFIED:20251102T103753Z
UID:23255-1762279200-1762282800@livingstreets.org.au
SUMMARY:4 November 2025 Meeting
DESCRIPTION:Living Streets Canberra’s next meeting on Tuesday\, 21 October at 6-7pm\, online.\nThis meeting’s areas of focus:🎯 Our stall at Southfest\, 15 November.🎯 Priorities for MLAs and the Legislative Assembly🎯 Submissions: shops upgrades + Thoroughbred Park\n🎯 Our next ‘walkshops’\n \nWe would love you to join us!\nWhat: Living Streets Canberra meetingWhen: Tuesday\, 4 November 2025 at 6pm-7pmWhere: Online \nRegistration: CLICK HERE
URL:https://livingstreets.org.au/event/4-november-2025-meeting/
CATEGORIES:Meetings
END:VEVENT
BEGIN:VEVENT
DTSTART;TZID=Australia/Sydney:20251021T180000
DTEND;TZID=Australia/Sydney:20251021T190000
DTSTAMP:20260424T025746
CREATED:20251018T030647Z
LAST-MODIFIED:20251018T031810Z
UID:23232-1761069600-1761073200@livingstreets.org.au
SUMMARY:21 October 2025 Meeting
DESCRIPTION:Living Streets Canberra’s next meeting on Tuesday\, 21 October at 6-7pm\, online.\nThis meeting’s areas of focus:🎯 Planning more ‘walkshops’. Next is likely to be in Manuka. We would like to have at least one in each district of Canberra. Is there a specific spot that would you like the walking environment assessed for what it’s like\, what works and what doesn’t work?🎯 Planning our submission for the Inquiry into Provision of Municipal Infrastructure.🎯 Our website. What would you like to see on it? How could it be improved? \nWe would love you to join us!\nWhat: Living Streets Canberra meetingWhen: Tuesday\, 21 October 2025 at 6pm-7pmWhere: Online \nRegistration: CLICK HERE
URL:https://livingstreets.org.au/event/21-october-2025-meeting/
CATEGORIES:Meetings
END:VEVENT
BEGIN:VEVENT
DTSTART;TZID=Australia/Sydney:20251007T180000
DTEND;TZID=Australia/Sydney:20251007T190000
DTSTAMP:20260424T025746
CREATED:20251006T190018Z
LAST-MODIFIED:20251002T065107Z
UID:23201-1759860000-1759863600@livingstreets.org.au
SUMMARY:7 October Meeting 2025
DESCRIPTION:Living Streets Canberra is holding its next meeting on Tuesday\, 7 October at 6pm online. \nThis meeting’s focus:\n🎯 We will be planning more ‘walkshops’. We would like to have at least one in each district of Canberra. Is there a specific spot that would you like the walking environment assessed for what it’s like\, what works and what doesn’t work?\n🎯 We will also be discussing our website. What would you like to see on our website? \nWe would love you to join us!\nWhat: Living Streets Canberra meeting\nWhen: Tuesday\, 7 October at 6pm-7pm\nWhere: Online\nRegistration: HERE
URL:https://livingstreets.org.au/event/7-october-meeting-2025/
CATEGORIES:Meetings
END:VEVENT
BEGIN:VEVENT
DTSTART;TZID=Australia/Sydney:20250923T180000
DTEND;TZID=Australia/Sydney:20250923T190000
DTSTAMP:20260424T025746
CREATED:20250920T042902Z
LAST-MODIFIED:20250920T042902Z
UID:23160-1758650400-1758654000@livingstreets.org.au
SUMMARY:23 September 2025 Meeting
DESCRIPTION:Living Streets Canberra is holding its next meeting on Tuesday\, 26 August at 6pm online. \nThis meeting’s focus:\n🎯 We will be planning more ‘walkshops’. We would like to have at least one in each district of Canberra. Is there a specific spot that would you like the walking environment assessed for what it’s like\, what works and what doesn’t work?\n🎯 Plus planning for upcoming stalls at community events. Interested in helping us out? Let us know! \nWe would love you to join us!\nWhat: Living Streets Canberra meeting\nWhen: Tuesday\, 23 September at 6pm-7pm\nWhere: Online\nRegistration: HERE
URL:https://livingstreets.org.au/event/23-september-2025-meeting/
CATEGORIES:Meetings
END:VEVENT
BEGIN:VEVENT
DTSTART;TZID=Australia/Sydney:20250909T180000
DTEND;TZID=Australia/Sydney:20250909T190000
DTSTAMP:20260424T025746
CREATED:20250905T071415Z
LAST-MODIFIED:20250905T071415Z
UID:23139-1757440800-1757444400@livingstreets.org.au
SUMMARY:9 September 2025 meeting
DESCRIPTION:Living Streets Canberra is holding its next meeting on Tuesday\, 26 August at 6pm online. \nThis meeting’s focus:\nWe will be planning more ‘walkshops’. We would like to have at least one in each district of Canberra. Is there a specific spot that would you like the walking environment assessed for what it’s like\, what works and what doesn’t work? \nWe would love you to join us!\nWhat: Living Streets Canberra meeting\nWhen: Tuesday\, 9 September at 6pm-7pm\nWhere: Online\nRegistration: HERE
URL:https://livingstreets.org.au/event/9-september-2025-meeting/
CATEGORIES:Meetings
END:VEVENT
BEGIN:VEVENT
DTSTART;TZID=Australia/Sydney:20250826T180000
DTEND;TZID=Australia/Sydney:20250826T190000
DTSTAMP:20260424T025746
CREATED:20250822T223414Z
LAST-MODIFIED:20250822T223634Z
UID:23099-1756231200-1756234800@livingstreets.org.au
SUMMARY:26 August 2025 meeting
DESCRIPTION:Living Streets Canberra’s next meeting on Tuesday\, 26 Augustat 6-7pm\, online.\n \nThis meeting’s focus:🎯 We will be planning ‘walkshops’ in each district of Canberra: is there a specific spot that would you like the walking environment assessed for what it’s like\, what works and what doesn’t work?\n \n👉 To register\, see link in bio\n \nWe would love you to join us!\n \nWhat: Living Streets Canberra meetingWhen: Tuesday\, 26 August 2025 at 6pm-7pmWhere: Online\nRegistration: Meeting Registration – Zoom
URL:https://livingstreets.org.au/event/26-august-2025-meeting/
CATEGORIES:Meetings
END:VEVENT
BEGIN:VEVENT
DTSTART;TZID=Australia/Sydney:20250812T060000
DTEND;TZID=Australia/Sydney:20250812T190000
DTSTAMP:20260424T025746
CREATED:20250807T220314Z
LAST-MODIFIED:20250807T220542Z
UID:23080-1754978400-1755025200@livingstreets.org.au
SUMMARY:Living Streets Canberra Meeting - gathering in-person
DESCRIPTION:Living Streets Canberra 12 August meeting \nDate: 12 August 2025 \nLocation: Unit 14/26 Barry Drive\, Canberra City \nHey there\, fellow urban\, active transport and pedestrian enthusiasts! Join us for the Living Streets Canberra meeting on 12 August at Conservation Council ACT Region\, Unit 14/26 Barry Drive\, Canberra for our first “phone-banking” event! \nYou will: \n🎯 meet other people in the Living Streets Canberra community \n🎯 learn how “phone banking” for advocacy works \n🎯 gain new skills for advocacy via phone \n🎯 connecting with our members and supporters \nIt’s going to be a great opportunity to connect with like-minded individuals and learn new skills to build our community. Don’t miss out on this chance to be a part of the movement towards safer and more accessible\, convenient and walkable streets in Canberra! \n  \nRegister on Eventbrite
URL:https://livingstreets.org.au/event/living-streets-canberra-meeting-gathering-in-person/
LOCATION:Conservation Council ACT Region\, Unit 14/26 Barry Drive\, Canberra\, ACT\, Australia
CATEGORIES:Meetings
END:VEVENT
BEGIN:VEVENT
DTSTART;TZID=Australia/Sydney:20250729T180000
DTEND;TZID=Australia/Sydney:20250729T190000
DTSTAMP:20260424T025746
CREATED:20250719T232719Z
LAST-MODIFIED:20250727T082723Z
UID:23036-1753812000-1753815600@livingstreets.org.au
SUMMARY:29 July 2025 Meeting
DESCRIPTION:Living Streets Canberra is holding its next meeting on Tuesday\, 29 July at 6pm. \n\nIssues for this meeting include:🎯 our branding: come and have your say!🎯 Legislative Assembly Inquiry into Fix My Street🎯 Light Rail to Woden draft EIS \n\nWe would love you to join us! \n\nWhat: Living Streets Canberra meetingWhen: Tuesday\, 29 July at 6pm-7pmWhere: OnlineRegistration: Meeting Registration – Zoom
URL:https://livingstreets.org.au/event/29-july-2025-meeting/
CATEGORIES:Meetings
END:VEVENT
END:VCALENDAR