BEGIN:VCALENDAR
VERSION:2.0
PRODID:-//Living Streets Canberra - ECPv6.15.20//NONSGML v1.0//EN
CALSCALE:GREGORIAN
METHOD:PUBLISH
X-ORIGINAL-URL:https://livingstreets.org.au
X-WR-CALDESC:Events for Living Streets Canberra
REFRESH-INTERVAL;VALUE=DURATION:PT1H
X-Robots-Tag:noindex
X-PUBLISHED-TTL:PT1H
BEGIN:VTIMEZONE
TZID:Australia/Sydney
BEGIN:STANDARD
TZOFFSETFROM:+1100
TZOFFSETTO:+1000
TZNAME:AEST
DTSTART:20240406T160000
END:STANDARD
BEGIN:DAYLIGHT
TZOFFSETFROM:+1000
TZOFFSETTO:+1100
TZNAME:AEDT
DTSTART:20241005T160000
END:DAYLIGHT
BEGIN:STANDARD
TZOFFSETFROM:+1100
TZOFFSETTO:+1000
TZNAME:AEST
DTSTART:20250405T160000
END:STANDARD
BEGIN:DAYLIGHT
TZOFFSETFROM:+1000
TZOFFSETTO:+1100
TZNAME:AEDT
DTSTART:20251004T160000
END:DAYLIGHT
BEGIN:STANDARD
TZOFFSETFROM:+1100
TZOFFSETTO:+1000
TZNAME:AEST
DTSTART:20260404T160000
END:STANDARD
BEGIN:DAYLIGHT
TZOFFSETFROM:+1000
TZOFFSETTO:+1100
TZNAME:AEDT
DTSTART:20261003T160000
END:DAYLIGHT
END:VTIMEZONE
BEGIN:VEVENT
DTSTART;TZID=Australia/Sydney:20251202T180000
DTEND;TZID=Australia/Sydney:20251202T200000
DTSTAMP:20260424T074357
CREATED:20251127T202730Z
LAST-MODIFIED:20251127T203016Z
UID:23362-1764698400-1764705600@livingstreets.org.au
SUMMARY:End of year walkshop and social gathering
DESCRIPTION:End-of-year walkshop & social gathering\, 2 December 2025\n\nThe end of the year = we’ve done a lot\, so let’s celebrate by getting to know (or meet) one another more informally while building our knowledge and skills during a brief ‘walkshop’ around Dickson group centre before dinner at Dickson Taphouse. Then we’ll be all set for some down-time to refresh for an even more productive and influential 2026.\n  \nWhat: Living Streets Canberra end-of-year social gathering\nWhen: Tuesday\, 2 December starting at 6:00pm\nWhere: 6:00 meet at Dickson Interchange\, outside Access Canberra\, then we’ll go for 1/2 hour walk around Dickson\, observing good and not-so-good walking environment.\nAt about 6:45pm we’ll gather at Dickson Taphouse for dinner and socialising\n8:00 finish (you’re welcome to kick on if you’d like!)\nBring: yourself\, phone or camera to record or livestream what you see on the walkshop\, money if you would like to buy drinks or food\n  \nWe’re looking forward to seeing you! 
URL:https://livingstreets.org.au/event/end-of-year-walkshop-and-social-gathering/
LOCATION:Dickson Interchange\, Dickson Interchange\, Dickson\, ACT\, 2602\, Australia
END:VEVENT
END:VCALENDAR